BEGIN:VCALENDAR
VERSION:2.0
PRODID:-//High Hopes - ECPv6.15.20//NONSGML v1.0//EN
CALSCALE:GREGORIAN
METHOD:PUBLISH
X-WR-CALNAME:High Hopes
X-ORIGINAL-URL:https://highhopes.ws
X-WR-CALDESC:Events for High Hopes
REFRESH-INTERVAL;VALUE=DURATION:PT1H
X-Robots-Tag:noindex
X-PUBLISHED-TTL:PT1H
BEGIN:VTIMEZONE
TZID:America/Los_Angeles
BEGIN:DAYLIGHT
TZOFFSETFROM:-0800
TZOFFSETTO:-0700
TZNAME:PDT
DTSTART:20250309T100000
END:DAYLIGHT
BEGIN:STANDARD
TZOFFSETFROM:-0700
TZOFFSETTO:-0800
TZNAME:PST
DTSTART:20251102T090000
END:STANDARD
BEGIN:DAYLIGHT
TZOFFSETFROM:-0800
TZOFFSETTO:-0700
TZNAME:PDT
DTSTART:20260308T100000
END:DAYLIGHT
BEGIN:STANDARD
TZOFFSETFROM:-0700
TZOFFSETTO:-0800
TZNAME:PST
DTSTART:20261101T090000
END:STANDARD
BEGIN:DAYLIGHT
TZOFFSETFROM:-0800
TZOFFSETTO:-0700
TZNAME:PDT
DTSTART:20270314T100000
END:DAYLIGHT
BEGIN:STANDARD
TZOFFSETFROM:-0700
TZOFFSETTO:-0800
TZNAME:PST
DTSTART:20271107T090000
END:STANDARD
END:VTIMEZONE
BEGIN:VEVENT
DTSTART;VALUE=DATE:20260308
DTEND;VALUE=DATE:20260309
DTSTAMP:20260424T170005
CREATED:20251113T015942Z
LAST-MODIFIED:20251113T015942Z
UID:29854-1772928000-1773014399@highhopes.ws
SUMMARY:Daylight Savings Time begins
DESCRIPTION:Daylight Savings Time begins
URL:https://highhopes.ws/event/daylight-savings-time-begins/
CATEGORIES:@ High Hopes,Closed
END:VEVENT
BEGIN:VEVENT
DTSTART;VALUE=DATE:20260309
DTEND;VALUE=DATE:20260310
DTSTAMP:20260424T170005
CREATED:20251113T020032Z
LAST-MODIFIED:20251113T020032Z
UID:29858-1773014400-1773100799@highhopes.ws
SUMMARY:Staff Day
DESCRIPTION:Staff Day
URL:https://highhopes.ws/event/staff-day/
CATEGORIES:@ High Hopes,Closed
END:VEVENT
END:VCALENDAR